BEGIN:VCALENDAR
VERSION:2.0
PRODID:-//Voyages Afriq - ECPv6.15.17//NONSGML v1.0//EN
CALSCALE:GREGORIAN
METHOD:PUBLISH
X-ORIGINAL-URL:https://voyagesafriq.com
X-WR-CALDESC:Events for Voyages Afriq
REFRESH-INTERVAL;VALUE=DURATION:PT1H
X-Robots-Tag:noindex
X-PUBLISHED-TTL:PT1H
BEGIN:VTIMEZONE
TZID:Europe/Helsinki
BEGIN:DAYLIGHT
TZOFFSETFROM:+0200
TZOFFSETTO:+0300
TZNAME:EEST
DTSTART:20250330T010000
END:DAYLIGHT
BEGIN:STANDARD
TZOFFSETFROM:+0300
TZOFFSETTO:+0200
TZNAME:EET
DTSTART:20251026T010000
END:STANDARD
BEGIN:DAYLIGHT
TZOFFSETFROM:+0200
TZOFFSETTO:+0300
TZNAME:EEST
DTSTART:20260329T010000
END:DAYLIGHT
BEGIN:STANDARD
TZOFFSETFROM:+0300
TZOFFSETTO:+0200
TZNAME:EET
DTSTART:20261025T010000
END:STANDARD
BEGIN:DAYLIGHT
TZOFFSETFROM:+0200
TZOFFSETTO:+0300
TZNAME:EEST
DTSTART:20270328T010000
END:DAYLIGHT
BEGIN:STANDARD
TZOFFSETFROM:+0300
TZOFFSETTO:+0200
TZNAME:EET
DTSTART:20271031T010000
END:STANDARD
END:VTIMEZONE
BEGIN:VEVENT
DTSTART;TZID=Europe/Helsinki:20260410T080000
DTEND;TZID=Europe/Helsinki:20260412T170000
DTSTAMP:20260420T124147
CREATED:20251031T124624Z
LAST-MODIFIED:20251031T124624Z
UID:34176-1775808000-1776013200@voyagesafriq.com
SUMMARY:ILTM Africa
DESCRIPTION:ILTM Africa gives leaders in the African luxury travel market every opportunity to re-connect\, build relationships and grow their business. An invitation-only event\, the very best travel agents from across the globe meet Africa’s most spectacular luxury travel experience providers. \n 
URL:https://voyagesafriq.com/event/iltm-africa/
LOCATION:Cape Town\, Cape Town\, South Africa
ATTACH;FMTTYPE=image/jpeg:https://voyagesafriq.com/wp-content/uploads/2025/07/ILTM-Africa-2025.jpg
END:VEVENT
END:VCALENDAR