BEGIN:VCALENDAR
VERSION:2.0
PRODID:-//Voyages Afriq - ECPv6.15.17//NONSGML v1.0//EN
CALSCALE:GREGORIAN
METHOD:PUBLISH
X-ORIGINAL-URL:https://voyagesafriq.com
X-WR-CALDESC:Events for Voyages Afriq
REFRESH-INTERVAL;VALUE=DURATION:PT1H
X-Robots-Tag:noindex
X-PUBLISHED-TTL:PT1H
BEGIN:VTIMEZONE
TZID:Europe/Berlin
BEGIN:DAYLIGHT
TZOFFSETFROM:+0100
TZOFFSETTO:+0200
TZNAME:CEST
DTSTART:20250330T010000
END:DAYLIGHT
BEGIN:STANDARD
TZOFFSETFROM:+0200
TZOFFSETTO:+0100
TZNAME:CET
DTSTART:20251026T010000
END:STANDARD
BEGIN:DAYLIGHT
TZOFFSETFROM:+0100
TZOFFSETTO:+0200
TZNAME:CEST
DTSTART:20260329T010000
END:DAYLIGHT
BEGIN:STANDARD
TZOFFSETFROM:+0200
TZOFFSETTO:+0100
TZNAME:CET
DTSTART:20261025T010000
END:STANDARD
BEGIN:DAYLIGHT
TZOFFSETFROM:+0100
TZOFFSETTO:+0200
TZNAME:CEST
DTSTART:20270328T010000
END:DAYLIGHT
BEGIN:STANDARD
TZOFFSETFROM:+0200
TZOFFSETTO:+0100
TZNAME:CET
DTSTART:20271031T010000
END:STANDARD
END:VTIMEZONE
BEGIN:VTIMEZONE
TZID:Africa/Kampala
BEGIN:STANDARD
TZOFFSETFROM:+0300
TZOFFSETTO:+0300
TZNAME:EAT
DTSTART:20250101T000000
END:STANDARD
END:VTIMEZONE
BEGIN:VEVENT
DTSTART;TZID=Europe/Berlin:20260519T080000
DTEND;TZID=Europe/Berlin:20260521T170000
DTSTAMP:20260420T135246
CREATED:20251031T123034Z
LAST-MODIFIED:20251031T123304Z
UID:34168-1779177600-1779382800@voyagesafriq.com
SUMMARY:IMEX Frankfurt
DESCRIPTION:IMEX Frankfurt is where the global meetings\, events and incentive travel industry comes together annually for the largest trade show of its kind in Europe\n  \n 
URL:https://voyagesafriq.com/event/imex-frankfurt/
LOCATION:Messe Frankfurt\, Messe Frankfurt Ludwig-Erhard-Anlage 1 60327 Frankfurt Germany\, Frankfurt\, 60327\, Germany
ATTACH;FMTTYPE=image/jpeg:https://voyagesafriq.com/wp-content/uploads/2022/05/IMEX-in-Frankfurt_1.jpg
END:VEVENT
BEGIN:VEVENT
DTSTART;TZID=Africa/Kampala:20260521T080000
DTEND;TZID=Africa/Kampala:20260523T170000
DTSTAMP:20260420T135246
CREATED:20260102T143320Z
LAST-MODIFIED:20260102T143320Z
UID:34572-1779350400-1779555600@voyagesafriq.com
SUMMARY:Pearl of Africa Tourism Expo (POATE) 2026
DESCRIPTION:Pearl of Africa Tourism Expo (POATE) is Uganda’s flagship tourism and Business to Business (B2B) marketing event. \n\n 
URL:https://voyagesafriq.com/event/pearl-of-africa-tourism-expo-poate-2026/
LOCATION:Speke Resort & Convention Center\, Kampala\, Uganda\, Kampala\, Uganda
ATTACH;FMTTYPE=image/jpeg:https://voyagesafriq.com/wp-content/uploads/2026/01/POATE-2026-launch-Sheraton.jpg
ORGANIZER;CN="Uganda Tourism Board":MAILTO:info@poate.co.ug
END:VEVENT
END:VCALENDAR