BEGIN:VCALENDAR
VERSION:2.0
PRODID:-//Voyages Afriq - ECPv6.15.17//NONSGML v1.0//EN
CALSCALE:GREGORIAN
METHOD:PUBLISH
X-WR-CALNAME:Voyages Afriq
X-ORIGINAL-URL:https://voyagesafriq.com
X-WR-CALDESC:Events for Voyages Afriq
REFRESH-INTERVAL;VALUE=DURATION:PT1H
X-Robots-Tag:noindex
X-PUBLISHED-TTL:PT1H
BEGIN:VTIMEZONE
TZID:Europe/Moscow
BEGIN:STANDARD
TZOFFSETFROM:+0300
TZOFFSETTO:+0300
TZNAME:MSK
DTSTART:20250101T000000
END:STANDARD
END:VTIMEZONE
BEGIN:VEVENT
DTSTART;TZID=Europe/Moscow:20260604T080000
DTEND;TZID=Europe/Moscow:20260607T170000
DTSTAMP:20260420T150847
CREATED:20260310T122017Z
LAST-MODIFIED:20260310T122017Z
UID:35065-1780560000-1780851600@voyagesafriq.com
SUMMARY:Karibu Kilifair 2026
DESCRIPTION:Kilifair is an international tourism trade fair that has establisged itself as a key industry gathering in East Africa since its inception in 2015 by KILIFAIR Promotion Co LTD \n 
URL:https://voyagesafriq.com/event/karibu-kilifair-2026/
LOCATION:Arusha\, Arusha\, Tanzania\, United Republic of
ATTACH;FMTTYPE=image/jpeg:https://voyagesafriq.com/wp-content/uploads/2026/03/48020285348_7b65fa460b_k.jpg
ORGANIZER;CN="Karibu-Kilifair":MAILTO:info@kilifair.com
END:VEVENT
END:VCALENDAR