BEGIN:VCALENDAR
VERSION:2.0
PRODID:-//Voyages Afriq - ECPv6.15.17//NONSGML v1.0//EN
CALSCALE:GREGORIAN
METHOD:PUBLISH
X-ORIGINAL-URL:https://voyagesafriq.com
X-WR-CALDESC:Events for Voyages Afriq
REFRESH-INTERVAL;VALUE=DURATION:PT1H
X-Robots-Tag:noindex
X-PUBLISHED-TTL:PT1H
BEGIN:VTIMEZONE
TZID:UTC
BEGIN:STANDARD
TZOFFSETFROM:+0000
TZOFFSETTO:+0000
TZNAME:UTC
DTSTART:20250101T000000
END:STANDARD
END:VTIMEZONE
BEGIN:VEVENT
DTSTART;TZID=UTC:20260622T080000
DTEND;TZID=UTC:20260624T170000
DTSTAMP:20260420T151012
CREATED:20260225T093257Z
LAST-MODIFIED:20260225T093344Z
UID:34954-1782115200-1782320400@voyagesafriq.com
SUMMARY:Experience Africa
DESCRIPTION:Experience Africa is the UK’s leading B2B trade event dedicated to African tourism\, bringing together tourism boards\, DMCs\, lodges and specialist suppliers with carefully selected international buyers. Through pre-scheduled meetings and high-quality networking\, it delivers meaningful connections and real business opportunities across the African travel industry. \n  \n 
URL:https://voyagesafriq.com/event/experience-africa/
LOCATION:155 Bishopsgate\, London\, 155 Bishopsgate\, London\, Greater London\, EC2M 3TQ\, United Kingdom
ATTACH;FMTTYPE=image/jpeg:https://voyagesafriq.com/wp-content/uploads/2026/02/Experience-Africa-2025-in-London.jpg
ORGANIZER;CN="ATTA":MAILTO:info@atta.travel
END:VEVENT
END:VCALENDAR