BEGIN:VCALENDAR
VERSION:2.0
PRODID:-//Voyages Afriq - ECPv6.15.17//NONSGML v1.0//EN
CALSCALE:GREGORIAN
METHOD:PUBLISH
X-WR-CALNAME:Voyages Afriq
X-ORIGINAL-URL:https://voyagesafriq.com
X-WR-CALDESC:Events for Voyages Afriq
REFRESH-INTERVAL;VALUE=DURATION:PT1H
X-Robots-Tag:noindex
X-PUBLISHED-TTL:PT1H
BEGIN:VTIMEZONE
TZID:Indian/Mahe
BEGIN:STANDARD
TZOFFSETFROM:+0400
TZOFFSETTO:+0400
TZNAME:+04
DTSTART:20250101T000000
END:STANDARD
END:VTIMEZONE
BEGIN:VEVENT
DTSTART;TZID=Indian/Mahe:20260705T080000
DTEND;TZID=Indian/Mahe:20260711T170000
DTSTAMP:20260420T161718
CREATED:20260102T131638Z
LAST-MODIFIED:20260102T131638Z
UID:34565-1783238400-1783789200@voyagesafriq.com
SUMMARY:The Seychelles Challenge 2026
DESCRIPTION:Get ready for the sailing adventure of a lifetime! The Seychelles Challenge is back from 5 – 11 July 2026\, so save the date and block out your diary\, because the challenge is  ready to pull out all the stops to create an unforgettable event. \n 
URL:https://voyagesafriq.com/event/the-seychelles-challenge-2026/
LOCATION:Mahe\, Mahe\, Seychelles
ATTACH;FMTTYPE=image/jpeg:https://voyagesafriq.com/wp-content/uploads/2026/01/Leg3_8-scaled-1.jpg
END:VEVENT
END:VCALENDAR