BEGIN:VCALENDAR
VERSION:2.0
PRODID:-//Voyages Afriq - ECPv6.15.20//NONSGML v1.0//EN
CALSCALE:GREGORIAN
METHOD:PUBLISH
X-ORIGINAL-URL:https://voyagesafriq.com
X-WR-CALDESC:Events for Voyages Afriq
REFRESH-INTERVAL;VALUE=DURATION:PT1H
X-Robots-Tag:noindex
X-PUBLISHED-TTL:PT1H
BEGIN:VTIMEZONE
TZID:Europe/London
BEGIN:DAYLIGHT
TZOFFSETFROM:+0000
TZOFFSETTO:+0100
TZNAME:BST
DTSTART:20250330T010000
END:DAYLIGHT
BEGIN:STANDARD
TZOFFSETFROM:+0100
TZOFFSETTO:+0000
TZNAME:GMT
DTSTART:20251026T010000
END:STANDARD
BEGIN:DAYLIGHT
TZOFFSETFROM:+0000
TZOFFSETTO:+0100
TZNAME:BST
DTSTART:20260329T010000
END:DAYLIGHT
BEGIN:STANDARD
TZOFFSETFROM:+0100
TZOFFSETTO:+0000
TZNAME:GMT
DTSTART:20261025T010000
END:STANDARD
BEGIN:DAYLIGHT
TZOFFSETFROM:+0000
TZOFFSETTO:+0100
TZNAME:BST
DTSTART:20270328T010000
END:DAYLIGHT
BEGIN:STANDARD
TZOFFSETFROM:+0100
TZOFFSETTO:+0000
TZNAME:GMT
DTSTART:20271031T010000
END:STANDARD
END:VTIMEZONE
BEGIN:VEVENT
DTSTART;TZID=Europe/London:20261103T090000
DTEND;TZID=Europe/London:20261105T170000
DTSTAMP:20260421T002552
CREATED:20260405T131756Z
LAST-MODIFIED:20260405T131756Z
UID:35266-1793696400-1793898000@voyagesafriq.com
SUMMARY:WTM London 2026
DESCRIPTION:World Travel Market (WTM) London 2026 is a premier global travel trade event scheduled for November 3–5\, 2026 (with potential ancillary events starting Nov 2) at ExCeL London. It brings together thousands of industry professionals\, including travel agents\, tour operators\, and tourism boards to foster partnerships and showcase industry trends. \n 
URL:https://voyagesafriq.com/event/wtm-london-2026/
LOCATION:Excel Exhibition Centre-London\, Excel London\, Royal Victoria Dock\, 1 Western Gateway\,\, London\, E16 1XL\, United Kingdom
ATTACH;FMTTYPE=image/jpeg:https://voyagesafriq.com/wp-content/uploads/2025/11/WTM-london.jpeg
END:VEVENT
END:VCALENDAR