BEGIN:VCALENDAR
VERSION:2.0
PRODID:-//Voyages Afriq - ECPv6.15.17//NONSGML v1.0//EN
CALSCALE:GREGORIAN
METHOD:PUBLISH
X-WR-CALNAME:Voyages Afriq
X-ORIGINAL-URL:https://voyagesafriq.com
X-WR-CALDESC:Events for Voyages Afriq
REFRESH-INTERVAL;VALUE=DURATION:PT1H
X-Robots-Tag:noindex
X-PUBLISHED-TTL:PT1H
BEGIN:VTIMEZONE
TZID:Europe/Berlin
BEGIN:DAYLIGHT
TZOFFSETFROM:+0100
TZOFFSETTO:+0200
TZNAME:CEST
DTSTART:20250330T010000
END:DAYLIGHT
BEGIN:STANDARD
TZOFFSETFROM:+0200
TZOFFSETTO:+0100
TZNAME:CET
DTSTART:20251026T010000
END:STANDARD
BEGIN:DAYLIGHT
TZOFFSETFROM:+0100
TZOFFSETTO:+0200
TZNAME:CEST
DTSTART:20260329T010000
END:DAYLIGHT
BEGIN:STANDARD
TZOFFSETFROM:+0200
TZOFFSETTO:+0100
TZNAME:CET
DTSTART:20261025T010000
END:STANDARD
BEGIN:DAYLIGHT
TZOFFSETFROM:+0100
TZOFFSETTO:+0200
TZNAME:CEST
DTSTART:20270328T010000
END:DAYLIGHT
BEGIN:STANDARD
TZOFFSETFROM:+0200
TZOFFSETTO:+0100
TZNAME:CET
DTSTART:20271031T010000
END:STANDARD
END:VTIMEZONE
BEGIN:VTIMEZONE
TZID:Indian/Mahe
BEGIN:STANDARD
TZOFFSETFROM:+0400
TZOFFSETTO:+0400
TZNAME:+04
DTSTART:20250101T000000
END:STANDARD
END:VTIMEZONE
BEGIN:VTIMEZONE
TZID:Africa/Johannesburg
BEGIN:STANDARD
TZOFFSETFROM:+0200
TZOFFSETTO:+0200
TZNAME:SAST
DTSTART:20250101T000000
END:STANDARD
END:VTIMEZONE
BEGIN:VTIMEZONE
TZID:Asia/Dubai
BEGIN:STANDARD
TZOFFSETFROM:+0400
TZOFFSETTO:+0400
TZNAME:+04
DTSTART:20250101T000000
END:STANDARD
END:VTIMEZONE
BEGIN:VTIMEZONE
TZID:Europe/Helsinki
BEGIN:DAYLIGHT
TZOFFSETFROM:+0200
TZOFFSETTO:+0300
TZNAME:EEST
DTSTART:20250330T010000
END:DAYLIGHT
BEGIN:STANDARD
TZOFFSETFROM:+0300
TZOFFSETTO:+0200
TZNAME:EET
DTSTART:20251026T010000
END:STANDARD
BEGIN:DAYLIGHT
TZOFFSETFROM:+0200
TZOFFSETTO:+0300
TZNAME:EEST
DTSTART:20260329T010000
END:DAYLIGHT
BEGIN:STANDARD
TZOFFSETFROM:+0300
TZOFFSETTO:+0200
TZNAME:EET
DTSTART:20261025T010000
END:STANDARD
BEGIN:DAYLIGHT
TZOFFSETFROM:+0200
TZOFFSETTO:+0300
TZNAME:EEST
DTSTART:20270328T010000
END:DAYLIGHT
BEGIN:STANDARD
TZOFFSETFROM:+0300
TZOFFSETTO:+0200
TZNAME:EET
DTSTART:20271031T010000
END:STANDARD
END:VTIMEZONE
BEGIN:VTIMEZONE
TZID:Africa/Lusaka
BEGIN:STANDARD
TZOFFSETFROM:+0200
TZOFFSETTO:+0200
TZNAME:CAT
DTSTART:20250101T000000
END:STANDARD
END:VTIMEZONE
BEGIN:VTIMEZONE
TZID:Atlantic/Azores
BEGIN:DAYLIGHT
TZOFFSETFROM:-0100
TZOFFSETTO:+0000
TZNAME:+00
DTSTART:20250330T010000
END:DAYLIGHT
BEGIN:STANDARD
TZOFFSETFROM:+0000
TZOFFSETTO:-0100
TZNAME:-01
DTSTART:20251026T010000
END:STANDARD
BEGIN:DAYLIGHT
TZOFFSETFROM:-0100
TZOFFSETTO:+0000
TZNAME:+00
DTSTART:20260329T010000
END:DAYLIGHT
BEGIN:STANDARD
TZOFFSETFROM:+0000
TZOFFSETTO:-0100
TZNAME:-01
DTSTART:20261025T010000
END:STANDARD
BEGIN:DAYLIGHT
TZOFFSETFROM:-0100
TZOFFSETTO:+0000
TZNAME:+00
DTSTART:20270328T010000
END:DAYLIGHT
BEGIN:STANDARD
TZOFFSETFROM:+0000
TZOFFSETTO:-0100
TZNAME:-01
DTSTART:20271031T010000
END:STANDARD
END:VTIMEZONE
BEGIN:VTIMEZONE
TZID:Africa/Nairobi
BEGIN:STANDARD
TZOFFSETFROM:+0300
TZOFFSETTO:+0300
TZNAME:EAT
DTSTART:20250101T000000
END:STANDARD
END:VTIMEZONE
BEGIN:VTIMEZONE
TZID:Europe/Paris
BEGIN:DAYLIGHT
TZOFFSETFROM:+0100
TZOFFSETTO:+0200
TZNAME:CEST
DTSTART:20250330T010000
END:DAYLIGHT
BEGIN:STANDARD
TZOFFSETFROM:+0200
TZOFFSETTO:+0100
TZNAME:CET
DTSTART:20251026T010000
END:STANDARD
BEGIN:DAYLIGHT
TZOFFSETFROM:+0100
TZOFFSETTO:+0200
TZNAME:CEST
DTSTART:20260329T010000
END:DAYLIGHT
BEGIN:STANDARD
TZOFFSETFROM:+0200
TZOFFSETTO:+0100
TZNAME:CET
DTSTART:20261025T010000
END:STANDARD
BEGIN:DAYLIGHT
TZOFFSETFROM:+0100
TZOFFSETTO:+0200
TZNAME:CEST
DTSTART:20270328T010000
END:DAYLIGHT
BEGIN:STANDARD
TZOFFSETFROM:+0200
TZOFFSETTO:+0100
TZNAME:CET
DTSTART:20271031T010000
END:STANDARD
END:VTIMEZONE
BEGIN:VEVENT
DTSTART;TZID=Europe/Berlin:20260519T080000
DTEND;TZID=Europe/Berlin:20260521T170000
DTSTAMP:20260420T162430
CREATED:20251031T123034Z
LAST-MODIFIED:20251031T123304Z
UID:34168-1779177600-1779382800@voyagesafriq.com
SUMMARY:IMEX Frankfurt
DESCRIPTION:IMEX Frankfurt is where the global meetings\, events and incentive travel industry comes together annually for the largest trade show of its kind in Europe\n  \n 
URL:https://voyagesafriq.com/event/imex-frankfurt/
LOCATION:Messe Frankfurt\, Messe Frankfurt Ludwig-Erhard-Anlage 1 60327 Frankfurt Germany\, Frankfurt\, 60327\, Germany
ATTACH;FMTTYPE=image/jpeg:https://voyagesafriq.com/wp-content/uploads/2022/05/IMEX-in-Frankfurt_1.jpg
END:VEVENT
BEGIN:VEVENT
DTSTART;TZID=Indian/Mahe:20260516T080000
DTEND;TZID=Indian/Mahe:20260516T170000
DTSTAMP:20260420T162430
CREATED:20251218T092521Z
LAST-MODIFIED:20251218T092521Z
UID:34544-1778918400-1778950800@voyagesafriq.com
SUMMARY:Seychelles Nature Trail 2026
DESCRIPTION:The Seychelles Nature Trail is back for its 3rd edition\, featuring a 22 km course through Mahé’s lush tropical forests and its legendary beaches. A unique experience blending athletic challenge and total immersion in the Seychelles’ pristine nature. \n 
URL:https://voyagesafriq.com/event/seychelles-nature-trail-2026/
LOCATION:Mahe\, Mahe\, Seychelles
ATTACH;FMTTYPE=image/jpeg:https://voyagesafriq.com/wp-content/uploads/2025/12/54739640685_cd7ced923c_k.jpg
END:VEVENT
BEGIN:VEVENT
DTSTART;TZID=Africa/Johannesburg:20260511T080000
DTEND;TZID=Africa/Johannesburg:20260514T170000
DTSTAMP:20260420T162430
CREATED:20260102T131125Z
LAST-MODIFIED:20260102T131125Z
UID:34562-1778486400-1778778000@voyagesafriq.com
SUMMARY:Africa's Travel Indaba 2026
DESCRIPTION:Africa’s Travel Indaba provides a platform for African tourism product owners to meet with global buyers. \n  \n 
URL:https://voyagesafriq.com/event/africas-travel-indaba-2026/
LOCATION:Inkosi Albert Luthuli Convention Centre (Durban ICC)\, Durban\, Kwazulu Natal\, South Africa
ATTACH;FMTTYPE=image/jpeg:https://voyagesafriq.com/wp-content/uploads/2020/01/indaba.jpg
ORGANIZER;CN="South African Tourism":MAILTO:convention@southafrica.net
END:VEVENT
BEGIN:VEVENT
DTSTART;TZID=Asia/Dubai:20260504T080000
DTEND;TZID=Asia/Dubai:20260507T170000
DTSTAMP:20260420T162430
CREATED:20260102T132243Z
LAST-MODIFIED:20260102T132243Z
UID:34568-1777881600-1778173200@voyagesafriq.com
SUMMARY:Arabian Travel Market (ATM Dubai)
DESCRIPTION:Arabian Travel Market\, known as ATM\, is a travel and tourism event\, organized annually in Dubai to provide a platform for inbound and outbound tourism professionals in the Middle East and gives information on tourism destinations\, accommodation options\, tourism attractions and aviation industry in the Middle East and around the world. \n  \n 
URL:https://voyagesafriq.com/event/arabian-travel-market-atm-dubai/
LOCATION:Dubai World Trade Centre (DWTC)\, Sheikh Zayed Rd - Trade Centre - Trade Centre 2 - Dubai - United Arab Emirates\, Dubai\, Dubai\, United Arab Emirates
ATTACH;FMTTYPE=image/jpeg:https://voyagesafriq.com/wp-content/uploads/2026/01/arabian_travel_market.jpg
END:VEVENT
BEGIN:VEVENT
DTSTART;TZID=Europe/Helsinki:20260429T090000
DTEND;TZID=Europe/Helsinki:20260501T170000
DTSTAMP:20260420T162430
CREATED:20260405T131317Z
LAST-MODIFIED:20260405T131317Z
UID:35264-1777453200-1777654800@voyagesafriq.com
SUMMARY:2nd UN Tourism Regional Congress on Women Empowerment in Tourism in Africa
DESCRIPTION:The 2nd UN Tourism Regional Congress on Women’s Empowerment in Tourism in Africa will be organized jointly by UN Tourism and the Ministry of Tourism and Hospitality Industry of the Republic of Zimbabwe. It will take place in Victoria Falls\, Zimbabwe from 29 April – 1 May 2026. \nWhile women make up 69% of the hospitality workforce in Africa\, they remain disproportionately concentrated in lower-paid or informal roles and are significantly underrepresented in executive leadership. \nThis congress aims to move beyond foundational empowerment towards leadership pathways and decisive institutional action. It will focus on catalyzing policies and partnerships that transform women from workforce participants into the primary architects and decision-makers of Africa’s tourism landscape. \n 
URL:https://voyagesafriq.com/event/2nd-un-tourism-regional-congress-on-women-empowerment-in-tourism-in-africa/
LOCATION:Victoria Falls Zimbabwe\, Victoria Falls\, Zimbabwe
ATTACH;FMTTYPE=image/jpeg:https://voyagesafriq.com/wp-content/uploads/2023/12/Copy-of-Victoria-Falls.jpg
ORGANIZER;CN="UN Tourism":MAILTO:rdaf@unwto.org
END:VEVENT
BEGIN:VEVENT
DTSTART;TZID=Africa/Lusaka:20260414T090000
DTEND;TZID=Africa/Lusaka:20260416T170000
DTSTAMP:20260420T162430
CREATED:20260310T115742Z
LAST-MODIFIED:20260310T115742Z
UID:35062-1776157200-1776358800@voyagesafriq.com
SUMMARY:Travel\, Hospitality and Tourism Education Summit 2026
DESCRIPTION:The Travel\, Hospitality and Tourism Education Summit  is a three-day dialogue platform that convenes educators\, employers\, policymakers\, and cooperating partners to address the knowledge and skills gaps hindering the development of tourism and its sub sectors. \n 
URL:https://voyagesafriq.com/event/travel-hospitality-and-tourism-education-summit-2026/
LOCATION:Mulungushi International Conference Centre – Lusaka\, Lusaka\, Zambia
ATTACH;FMTTYPE=image/jpeg:https://voyagesafriq.com/wp-content/uploads/2026/03/54437268756_5bd9efeb4f_6k-scaled.jpg
ORGANIZER;CN="Zambia Institute for Tourism and Hospitality Studies (ZITHS)":MAILTO:academic@ziths.edu.zm
END:VEVENT
BEGIN:VEVENT
DTSTART;TZID=Africa/Johannesburg:20260413T080000
DTEND;TZID=Africa/Johannesburg:20260415T170000
DTSTAMP:20260420T162430
CREATED:20251031T123612Z
LAST-MODIFIED:20251031T123612Z
UID:34171-1776067200-1776272400@voyagesafriq.com
SUMMARY:WTM Africa
DESCRIPTION:World Travel Market Africa is the leading exhibition for the inbound and outbound African travel & tourism markets.\, WTM Africa creates personal and business opportunities through its industry networks\, global reach and regional focus\, providing our customers with quality contacts\, content and communities.\n 
URL:https://voyagesafriq.com/event/wtm-africa/
LOCATION:Cape Town International Convention Centre
ATTACH;FMTTYPE=image/jpeg:https://voyagesafriq.com/wp-content/uploads/2024/03/WTM-Africa-2023.jpg
END:VEVENT
BEGIN:VEVENT
DTSTART;TZID=Europe/Helsinki:20260410T080000
DTEND;TZID=Europe/Helsinki:20260412T170000
DTSTAMP:20260420T162430
CREATED:20251031T124624Z
LAST-MODIFIED:20251031T124624Z
UID:34176-1775808000-1776013200@voyagesafriq.com
SUMMARY:ILTM Africa
DESCRIPTION:ILTM Africa gives leaders in the African luxury travel market every opportunity to re-connect\, build relationships and grow their business. An invitation-only event\, the very best travel agents from across the globe meet Africa’s most spectacular luxury travel experience providers. \n 
URL:https://voyagesafriq.com/event/iltm-africa/
LOCATION:Cape Town\, Cape Town\, South Africa
ATTACH;FMTTYPE=image/jpeg:https://voyagesafriq.com/wp-content/uploads/2025/07/ILTM-Africa-2025.jpg
END:VEVENT
BEGIN:VEVENT
DTSTART;TZID=Atlantic/Azores:20260409T080000
DTEND;TZID=Atlantic/Azores:20260411T170000
DTSTAMP:20260420T162430
CREATED:20260310T123030Z
LAST-MODIFIED:20260310T123030Z
UID:35068-1775721600-1775926800@voyagesafriq.com
SUMMARY:Kriol Jazz Festival 2026
DESCRIPTION:The Kriol Jazz Festival is a fusion of music from different origins all on one stage. Discover a selection of the best artists from the creole world for a program based upon exchanging as much on a musical level as on a human level. \n 
URL:https://voyagesafriq.com/event/kriol-jazz-festival-2026/
LOCATION:Praia Cabo Verde\, Praia\, Cape Verde
ATTACH;FMTTYPE=image/jpeg:https://voyagesafriq.com/wp-content/uploads/2026/03/641261164_1361354019346746_3185271315882985762_n.jpg
ORGANIZER;CN="Harmonia Lda":MAILTO:harmonia.producao@gmail.com
END:VEVENT
BEGIN:VEVENT
DTSTART;TZID=Africa/Nairobi:20260331T080000
DTEND;TZID=Africa/Nairobi:20260401T170000
DTSTAMP:20260420T162430
CREATED:20251031T125813Z
LAST-MODIFIED:20251031T125814Z
UID:34181-1774944000-1775062800@voyagesafriq.com
SUMMARY:Future Hospitality Summit Africa
DESCRIPTION:Africa Hospitality Investment Forum is Africa’s premier meeting place of leaders in the hospitality sector\, attracting hotel and real estate investors\, owners and developers\, global hotel operator CEOs and prominent advisory services from across the African continent and beyond.\n 
URL:https://voyagesafriq.com/event/future-hospitality-summit-africa/
LOCATION:Nairobi\, Nairobi\, Kenya
ATTACH;FMTTYPE=image/png:https://voyagesafriq.com/wp-content/uploads/2025/10/0f01d8b80271122.png
ORGANIZER;CN="Bench Events":MAILTO:sally.marwaha@benchevents.com
END:VEVENT
BEGIN:VEVENT
DTSTART;TZID=Europe/Berlin:20260303T000000
DTEND;TZID=Europe/Berlin:20260305T000000
DTSTAMP:20260420T162430
CREATED:20251031T121940Z
LAST-MODIFIED:20251031T121940Z
UID:34166-1772496000-1772668800@voyagesafriq.com
SUMMARY:ITB Berlin
DESCRIPTION:ITB Berlin is the world’s leading travel trade show\, bringing together tourism professionals\, destinations\, and industry leaders from over 170 countries each year at MesseBerlin to drive innovation and collaboration in global travel and hospitality. Established in 1966\, it serves as a premier platform for networking\, business exchange\, and thought leadership through its dynamic exhibitions and the renowned ITB Berlin Convention. \n  \n 
URL:https://voyagesafriq.com/event/itb-berlin/
LOCATION:Messe Berlin\, Berlin\, Germany
ATTACH;FMTTYPE=image/jpeg:https://voyagesafriq.com/wp-content/uploads/2024/03/RL5_3556-2.jpg
ORGANIZER;CN="Messe Berlin GmbH":MAILTO:central@messe-berlin.de
END:VEVENT
BEGIN:VEVENT
DTSTART;TZID=Africa/Johannesburg:20260223T080000
DTEND;TZID=Africa/Johannesburg:20260225T170000
DTSTAMP:20260420T162430
CREATED:20251031T121157Z
LAST-MODIFIED:20251031T121157Z
UID:34164-1771833600-1772038800@voyagesafriq.com
SUMMARY:Meetings Africa
DESCRIPTION:Meetings Africa is a 2-day trade show with a dedicated educational day\,BONDay that is executed in conjunction with the key global\, continental and national industry associations to provide a platform for exhibitors to showcase their offerings to International and local buyers\, African associations and corporate planners. It is the most formidable platform on the continent for you to meet face-to-face with the most influential buyers in the world\, and to be part of Africa’s growth. \n 
URL:https://voyagesafriq.com/event/meetings-africa/
LOCATION:Sandton Convention Centre\, Johannesburg\, South Africa
ATTACH;FMTTYPE=image/jpeg:https://voyagesafriq.com/wp-content/uploads/2023/01/Meetings-Africa-Primary-Logos-Cyan-on-Dark-Blue_RGB-scaled.jpg
ORGANIZER;CN="South African Tourism":MAILTO:convention@southafrica.net
END:VEVENT
BEGIN:VEVENT
DTSTART;TZID=Europe/Helsinki:20260127T070000
DTEND;TZID=Europe/Helsinki:20260127T170000
DTSTAMP:20260420T162430
CREATED:20260115T125402Z
LAST-MODIFIED:20260115T125402Z
UID:34659-1769497200-1769533200@voyagesafriq.com
SUMMARY:Skift’s Africa Megatrends 2026
DESCRIPTION:Skift Megatrends is widely regarded as the annual compass for the global travel industry\, shaping strategies for airlines\, hotel groups\, tourism boards\, investors\, technology companies\, and policymakers. The 2026 edition analyses the forces that will define travel behaviour\, market performance\, and investment flows in the year ahead. \n 
URL:https://voyagesafriq.com/event/skifts-africa-megatrends-2026/
LOCATION:Table Mountain Cape Town\, Cape Town\, Western Cape\, South Africa
ATTACH;FMTTYPE=image/png:https://voyagesafriq.com/wp-content/uploads/2026/01/1200-x-628-MT26-Cape-Town.png
END:VEVENT
BEGIN:VEVENT
DTSTART;TZID=Europe/Paris:20260121T080000
DTEND;TZID=Europe/Paris:20260125T170000
DTSTAMP:20260420T162430
CREATED:20251031T120856Z
LAST-MODIFIED:20251031T120856Z
UID:34162-1768982400-1769360400@voyagesafriq.com
SUMMARY:FITUR International Tourism Fair
DESCRIPTION:FITUR is an event organized by IFEMA MADRID spanning five days and welcomes both trade visitors from the tourism industry interested in the latest industry trends\, and the general public who come for first-hand information about the destinations on show. \n 
URL:https://voyagesafriq.com/event/fitur-international-tourism-fair/
LOCATION:IFEMA-MADRID\, Madrid\, Madrid\, Spain
ATTACH;FMTTYPE=image/jpeg:https://voyagesafriq.com/wp-content/uploads/2023/11/FITUR-2023_002-scaled.jpg
END:VEVENT
END:VCALENDAR