BEGIN:VCALENDAR
VERSION:2.0
PRODID:-//Voyages Afriq - ECPv6.15.20//NONSGML v1.0//EN
CALSCALE:GREGORIAN
METHOD:PUBLISH
X-ORIGINAL-URL:https://voyagesafriq.com
X-WR-CALDESC:Events for Voyages Afriq
REFRESH-INTERVAL;VALUE=DURATION:PT1H
X-Robots-Tag:noindex
X-PUBLISHED-TTL:PT1H
BEGIN:VTIMEZONE
TZID:Europe/Moscow
BEGIN:STANDARD
TZOFFSETFROM:+0300
TZOFFSETTO:+0300
TZNAME:MSK
DTSTART:20250101T000000
END:STANDARD
END:VTIMEZONE
BEGIN:VTIMEZONE
TZID:Europe/London
BEGIN:DAYLIGHT
TZOFFSETFROM:+0000
TZOFFSETTO:+0100
TZNAME:BST
DTSTART:20250330T010000
END:DAYLIGHT
BEGIN:STANDARD
TZOFFSETFROM:+0100
TZOFFSETTO:+0000
TZNAME:GMT
DTSTART:20251026T010000
END:STANDARD
BEGIN:DAYLIGHT
TZOFFSETFROM:+0000
TZOFFSETTO:+0100
TZNAME:BST
DTSTART:20260329T010000
END:DAYLIGHT
BEGIN:STANDARD
TZOFFSETFROM:+0100
TZOFFSETTO:+0000
TZNAME:GMT
DTSTART:20261025T010000
END:STANDARD
BEGIN:DAYLIGHT
TZOFFSETFROM:+0000
TZOFFSETTO:+0100
TZNAME:BST
DTSTART:20270328T010000
END:DAYLIGHT
BEGIN:STANDARD
TZOFFSETFROM:+0100
TZOFFSETTO:+0000
TZNAME:GMT
DTSTART:20271031T010000
END:STANDARD
END:VTIMEZONE
BEGIN:VTIMEZONE
TZID:Europe/Helsinki
BEGIN:DAYLIGHT
TZOFFSETFROM:+0200
TZOFFSETTO:+0300
TZNAME:EEST
DTSTART:20250330T010000
END:DAYLIGHT
BEGIN:STANDARD
TZOFFSETFROM:+0300
TZOFFSETTO:+0200
TZNAME:EET
DTSTART:20251026T010000
END:STANDARD
BEGIN:DAYLIGHT
TZOFFSETFROM:+0200
TZOFFSETTO:+0300
TZNAME:EEST
DTSTART:20260329T010000
END:DAYLIGHT
BEGIN:STANDARD
TZOFFSETFROM:+0300
TZOFFSETTO:+0200
TZNAME:EET
DTSTART:20261025T010000
END:STANDARD
BEGIN:DAYLIGHT
TZOFFSETFROM:+0200
TZOFFSETTO:+0300
TZNAME:EEST
DTSTART:20270328T010000
END:DAYLIGHT
BEGIN:STANDARD
TZOFFSETFROM:+0300
TZOFFSETTO:+0200
TZNAME:EET
DTSTART:20271031T010000
END:STANDARD
END:VTIMEZONE
BEGIN:VEVENT
DTSTART;TZID=Europe/Moscow:20261020T080000
DTEND;TZID=Europe/Moscow:20261022T170000
DTSTAMP:20260420T231145
CREATED:20260225T092924Z
LAST-MODIFIED:20260225T092924Z
UID:34950-1792483200-1792688400@voyagesafriq.com
SUMMARY:Essence of Africa
DESCRIPTION:Essence of Africa is a private\, sector-led initiative designed to connect international buyers with African tourism suppliers. The event features pre-scheduled meetings\, networking events\, educational seminars\, and familiarisation trips\, providing a comprehensive platform for business development and collaboration. \n 
URL:https://voyagesafriq.com/event/essence-of-africa/
LOCATION:Zanzibar\, Zanzibar\, Tanzania\, United Republic of
ATTACH;FMTTYPE=image/jpeg:https://voyagesafriq.com/wp-content/uploads/2026/02/628178372_122277593576189392_6601399978942637300_n-1.jpg
END:VEVENT
BEGIN:VEVENT
DTSTART;TZID=Europe/London:20261103T090000
DTEND;TZID=Europe/London:20261105T170000
DTSTAMP:20260420T231145
CREATED:20260405T131756Z
LAST-MODIFIED:20260405T131756Z
UID:35266-1793696400-1793898000@voyagesafriq.com
SUMMARY:WTM London 2026
DESCRIPTION:World Travel Market (WTM) London 2026 is a premier global travel trade event scheduled for November 3–5\, 2026 (with potential ancillary events starting Nov 2) at ExCeL London. It brings together thousands of industry professionals\, including travel agents\, tour operators\, and tourism boards to foster partnerships and showcase industry trends. \n 
URL:https://voyagesafriq.com/event/wtm-london-2026/
LOCATION:Excel Exhibition Centre-London\, Excel London\, Royal Victoria Dock\, 1 Western Gateway\,\, London\, E16 1XL\, United Kingdom
ATTACH;FMTTYPE=image/jpeg:https://voyagesafriq.com/wp-content/uploads/2025/11/WTM-london.jpeg
END:VEVENT
BEGIN:VEVENT
DTSTART;TZID=Europe/Helsinki:20261117T090000
DTEND;TZID=Europe/Helsinki:20261119T170000
DTSTAMP:20260420T231145
CREATED:20260405T160746Z
LAST-MODIFIED:20260405T160747Z
UID:35270-1794906000-1795107600@voyagesafriq.com
SUMMARY:IBTM World
DESCRIPTION:IBTM World is where the global meetings and events industry comes together to adapt to change\, solve their biggest challenges\, and accelerate transformation. \n 
URL:https://voyagesafriq.com/event/ibtm-world/
LOCATION:Fira Barcelona Gran Via venue\, Av. Joan Carles I 08908 L'Hospitalet de Llobregat Barcelona\, Barcelona\, 08908\, Spain
ATTACH;FMTTYPE=image/jpeg:https://voyagesafriq.com/wp-content/uploads/2025/11/IBTM-World-2025-show-close-scaled.jpg
END:VEVENT
END:VCALENDAR