BEGIN:VCALENDAR
VERSION:2.0
PRODID:-//Voyages Afriq - ECPv6.15.17//NONSGML v1.0//EN
CALSCALE:GREGORIAN
METHOD:PUBLISH
X-WR-CALNAME:Voyages Afriq
X-ORIGINAL-URL:https://voyagesafriq.com
X-WR-CALDESC:Events for Voyages Afriq
REFRESH-INTERVAL;VALUE=DURATION:PT1H
X-Robots-Tag:noindex
X-PUBLISHED-TTL:PT1H
BEGIN:VTIMEZONE
TZID:Europe/Helsinki
BEGIN:DAYLIGHT
TZOFFSETFROM:+0200
TZOFFSETTO:+0300
TZNAME:EEST
DTSTART:20250330T010000
END:DAYLIGHT
BEGIN:STANDARD
TZOFFSETFROM:+0300
TZOFFSETTO:+0200
TZNAME:EET
DTSTART:20251026T010000
END:STANDARD
BEGIN:DAYLIGHT
TZOFFSETFROM:+0200
TZOFFSETTO:+0300
TZNAME:EEST
DTSTART:20260329T010000
END:DAYLIGHT
BEGIN:STANDARD
TZOFFSETFROM:+0300
TZOFFSETTO:+0200
TZNAME:EET
DTSTART:20261025T010000
END:STANDARD
BEGIN:DAYLIGHT
TZOFFSETFROM:+0200
TZOFFSETTO:+0300
TZNAME:EEST
DTSTART:20270328T010000
END:DAYLIGHT
BEGIN:STANDARD
TZOFFSETFROM:+0300
TZOFFSETTO:+0200
TZNAME:EET
DTSTART:20271031T010000
END:STANDARD
END:VTIMEZONE
BEGIN:VTIMEZONE
TZID:Africa/Luanda
BEGIN:STANDARD
TZOFFSETFROM:+0100
TZOFFSETTO:+0100
TZNAME:WAT
DTSTART:20250101T000000
END:STANDARD
END:VTIMEZONE
BEGIN:VEVENT
DTSTART;TZID=Europe/Helsinki:20260902T083000
DTEND;TZID=Europe/Helsinki:20260904T170000
DTSTAMP:20260420T201807
CREATED:20260324T164015Z
LAST-MODIFIED:20260324T164015Z
UID:35171-1788337800-1788541200@voyagesafriq.com
SUMMARY:Africa Tourism Leadership Forum 2026
DESCRIPTION:The Africa Tourism Leadership Forum is Africa’s leading platform for travel\, tourism\, hospitality\, and aviation stakeholders to network\, exchange insights\, and shape strategies for intra-African travel and tourism development.
URL:https://voyagesafriq.com/event/africa-tourism-leadership-forum-2026/
LOCATION:Polokwane Limpopo\, Polokwane\, Limpopo\, South Africa
ATTACH;FMTTYPE=image/jpeg:https://voyagesafriq.com/wp-content/uploads/2026/03/52455640777_dbbdf21173_k-2.jpg
ORGANIZER;CN="Africa Tourism Partners":MAILTO:info@africatourismpartners.com
END:VEVENT
BEGIN:VEVENT
DTSTART;TZID=Africa/Luanda:20260912T080000
DTEND;TZID=Africa/Luanda:20260913T170000
DTSTAMP:20260420T201807
CREATED:20260406T094254Z
LAST-MODIFIED:20260406T094254Z
UID:35272-1789200000-1789318800@voyagesafriq.com
SUMMARY:UIM E1 World Championship
DESCRIPTION:Angola joins as E1’s second race location on the African continent\, and the first in Southern Africa. The new round of the Championship sits alongside other iconic host cities on the calendar\, including Monaco\, Miami and Lake Como. \n  \n 
URL:https://voyagesafriq.com/event/uim-e1-world-championship/
LOCATION:Luanda\, Luanda
ATTACH;FMTTYPE=image/jpeg:https://voyagesafriq.com/wp-content/uploads/2026/04/m7391_crop169006_2050x1153_177454294241BE-3.jpg
END:VEVENT
END:VCALENDAR